BEGIN:VCALENDAR
VERSION:2.0
PRODID:-//Library Market//iCal Export//EN
BEGIN:VEVENT
SUMMARY:Peter Fletcher Classical Guitarist
UID:7750
DTSTAMP:20260423T041700Z
DTSTART:20260808T163000Z
DTEND:20260808T183000Z
LOCATION:Mason County Public Library, 218 E Third St, Maysville, KY 41056,
  United States
ROOM: Greifenkamp Community Room
DESCRIPTION:Join us for an intimate and inspiring day of classical music a
 t the library, featuring acclaimed classical guitarist Peter Fletcher. As 
 part of his journey to an upcoming residency at Carnegie Hall, Mr. Fletche
 r will make a special stop to share his artistry with our community.Known 
 for his expressive performances and masterful technique, Peter Fletcher ha
 s captivated audiences around the country. This unique program will showca
 se a selection of beautiful classical guitar works, offering listeners a r
 are opportunity to experience world-class musicianship in a welcoming, loc
 al setting.Whether you are a longtime lover of classical music or simply c
 urious to explore something new, this performance promises to be an engagi
 ng and memorable event for all ages.Don’t miss this special musical even
 t at the library—where great music meets community.No Registration Requi
 red 
URL:https://www.masoncountylibrary.com/event/peter-fletcher-classical-guit
 arist-7750
END:VEVENT
END:VCALENDAR
