BEGIN:VCALENDAR
VERSION:2.0
PRODID:-//Library Market//iCal Export//EN
BEGIN:VEVENT
SUMMARY:Hamilton
UID:7749
DTSTAMP:20260421T100700Z
DTSTART:20260926T163000Z
DTEND:20260926T193000Z
LOCATION:Russell Theatre, 9 East 3rd Street, Maysville, KY 41056, United S
 tates
ROOM: Hamilton
DESCRIPTION:Join us at the Russell Theatre for a special showing of Hamilt
 on in celebration of America’s 250th anniversary! Enjoy this exciting an
 d inspiring musical on the big screen with friends, family, and fellow fan
 s. Snacks will be available, so come ready to relax, have fun, and experie
 nce an unforgettable performance honoring our nation’s history. Don’t 
 miss this great night at the movies!No Registration Required 
URL:https://www.masoncountylibrary.com/event/hamilton-7749
END:VEVENT
END:VCALENDAR
