BEGIN:VCALENDAR
VERSION:2.0
PRODID:-//Library Market//iCal Export//EN
BEGIN:VEVENT
SUMMARY:End of Summer Reading: Bright Star Theater Presents: Dino Academy
UID:5910
DTSTAMP:20260421T095400Z
DTSTART:20260731T203000Z
DTEND:20260731T220000Z
LOCATION:Mason County Public Library, 218 E Third St, Maysville, KY 41056,
  United States
ROOM: Greifenkamp Community Room
DESCRIPTION:Bright Star Theatre presents Dino Academy: A Dinosaur Discover
 y Show to celebrate the end of Summer Reading! Join us for an exciting, in
 teractive adventure where audiences will explore the fascinating world of 
 dinosaurs through fun storytelling, engaging characters, and hands-on lear
 ning.After the show, stick around as we wrap up the season with our Summer
  Reading Prize Drawing for kids and teens. It’s the perfect way to celeb
 rate a summer full of reading, learning, and fun—don’t miss it!No Regi
 stration Required 
URL:https://www.masoncountylibrary.com/event/end-summer-reading-bright-sta
 r-theater-5910
END:VEVENT
END:VCALENDAR
